BEGIN:VCALENDAR
VERSION:2.0
PRODID:-//pagnozziparker.org//NONSGML kigkonsult.se iCalcreator 2.30.10//
CALSCALE:GREGORIAN
METHOD:PUBLISH
UID:12ca1a43-1c53-4d76-815e-497471b02dc9
X-WR-CALDESC:Join us for the 24th Annual Tom Pagnozzi Charity Golf Tourname
 nt presented by FedEx Services on Friday\, October 9\, 2015.  Get your 4-s
 ome ready for golf or if golf is not your thing\, join us at 6:00pm for th
 e Ultimate Tailgate and Auction.  You can enjoy great door prizes\, food\,
  drinks\, live and silent auction\, music by Barrett Baber and a great tim
 e!\n\nReserved Tables at Ultimate Tailgate & Auction are sold out!!  Ticke
 ts are still available at $35 each. \n\nGolf-  Morning golf flights still 
 available\, afternoon golf flight is sold out!  Golfer's lunch at noon. \n
 \nEvent proceeds will go to benefit the Pagnozzi Charities Youth Sports Sc
 holarship Program.  The Program grants sports scholarships to underprivile
 ged children K-8th grade in Northwest Arkansas.  Participation in sports a
 t a young age has been proven to increase self-esteem\, improve grades in 
 school and keep kids off drugs. \n\nFor more information on this event or 
 Pagnozzi Charities as a whole\, please contact us at 479-443-2550 or visit
  www.pagnozzicharities.org.
X-WR-RELCALID:4d08be3df13aecdac1743f800aad2793
X-WR-TIMEZONE:America/Chicago
BEGIN:VTIMEZONE
TZID:America/Chicago
BEGIN:STANDARD
TZNAME:CST
DTSTART:20141102T020000
TZOFFSETFROM:-0500
TZOFFSETTO:-0600
RDATE:20151101T020000
RDATE:20161106T020000
END:STANDARD
BEGIN:DAYLIGHT
TZNAME:CDT
DTSTART:20150308T020000
TZOFFSETFROM:-0600
TZOFFSETTO:-0500
RDATE:20160313T020000
RDATE:20170312T020000
END:DAYLIGHT
END:VTIMEZONE
BEGIN:VEVENT
UID:e1875e90-a226-431c-be9c-2641bf18df98
DTSTAMP:20260423T135823Z
DESCRIPTION:Join us for the 24th Annual Tom Pagnozzi Charity Golf Tournamen
 t presented by FedEx Services on Friday\, October 9\, 2015.  Get your 4-so
 me ready for golf or if golf is not your thing\, join us at 6:00pm for the
  Ultimate Tailgate and Auction.  You can enjoy great door prizes\, food\, 
 drinks\, live and silent auction\, music by Barrett Baber and a great time
 !\n\nReserved Tables at Ultimate Tailgate & Auction are sold out!!  Ticket
 s are still available at $35 each. \n\nGolf-  Morning golf flights still a
 vailable\, afternoon golf flight is sold out!  Golfer's lunch at noon. \n
 \nEvent proceeds will go to benefit the Pagnozzi Charities Youth Sports Sc
 holarship Program.  The Program grants sports scholarships to underprivile
 ged children K-8th grade in Northwest Arkansas.  Participation in sports a
 t a young age has been proven to increase self-esteem\, improve grades in 
 school and keep kids off drugs. \n\nFor more information on this event or 
 Pagnozzi Charities as a whole\, please contact us at 479-443-2550 or visit
  www.pagnozzicharities.org.
DTSTART;TZID=America/Chicago:20151009T080000
DTEND;TZID=America/Chicago:20151009T210000
LOCATION:Springdale Country Club | 608 W. Lakeview Dr. | Springdale\, AR 72
 764
SUMMARY:24th Annual Tom Pagnozzi Charity Golf Tournament\, Ultimate Tailgat
 e & Auction
END:VEVENT
END:VCALENDAR
