BEGIN:VCALENDAR
VERSION:2.0
PRODID:-//pagnozziparker.org//NONSGML kigkonsult.se iCalcreator 2.30.10//
CALSCALE:GREGORIAN
METHOD:PUBLISH
UID:4cb0a56f-7639-407f-ad8f-8de25d892990
X-WR-CALDESC:On Saturday\, February 20\, 2016 join Pagnozzi Charities for o
 ur 3rd Annual Princess for a Day event. Bring your little princess dressed
  in her favorite princess attire. She will be able to get her nails painte
 d\, make-up applied\, make a princess craft and have her picture taken wit
 h her favorite fairytale princesses.  \n\nThere will be a morning and an a
 fternoon session to allow for more little princesses to attend this year. 
 \nThe morning session will be from 10:00am-11:30am.  \nThe afternoon sessi
 on will be from 1:30pm-3:00pm.  \nTickets are $30 each and must be purchas
 ed in advance.  Last year we sold out 2 weeks prior to the event\, so regi
 ster today!\n\nWe are also very excited to announce that for $50/ticket\, 
 your little princess can attend an exclusive tea party with all of our fai
 rytale princesses in addition to the normal event activities.  There will 
 be 2 exclusive tea parties held and each are limited to 30 attendees.  (Ex
 clusive Tea Parties are both Sold Out!!  still plenty of room in both regu
 lar sessions!)\nThe morning tea party will be held at 9:30am\, prior to th
 e morning session.  - Sold Out\nThe afternoon tea party will be held at 1:
 00pm\, prior to the afternoon session.  \nRemember this is a limited oppor
 tunity so register quickly. \nWe have also added a few new princesses this
  year!\n\nMoney raised at this event will go to the Pagnozzi Youth Sports 
 Assistance Fund in order to provide assistance for dance and gymnastics.  
 Pagnozzi Charities provides sports assistance to underprivileged children 
 K-8th Grade in Northwest Arkansas that assist with sports registration fee
 s\, equipment\, etc. \n\nFor more information about sponsorships or volunt
 eer opportunities contact Kelley Atchley at kelley@pagnozzicharities.org o
 r 479-443-2550.\n\nIMPORTANT INFORMATION:  PLEASE READ BEFORE REGISTERING!
 !!\nPlease note that when registering\, you will need to select morning or
  afternoon session.  Also\, additional princesses can be added below the m
 ain registration this year.  Please be sure that your total includes all o
 f your attending princesses and any additional T-shirt purchases before ma
 king payment!  (This is not a drop-off event.) One adult per princess are 
 free to attend.  Any additional adults must purchase an additional family 
 member ticket.  (This is due to the fact that some princesses had 3-4 adul
 ts attending with them last year resulting in overcrowding of the event sp
 ace and longer photo lines.)  \nYou do not have to have a PayPal account t
 o pay with PayPal.
X-WR-RELCALID:491f174e9415f2d96cc222003a7bca34
X-WR-TIMEZONE:America/Chicago
BEGIN:VTIMEZONE
TZID:America/Chicago
BEGIN:STANDARD
TZNAME:CST
DTSTART:20151101T020000
TZOFFSETFROM:-0500
TZOFFSETTO:-0600
RDATE:20161106T020000
END:STANDARD
BEGIN:DAYLIGHT
TZNAME:CDT
DTSTART:20150308T020000
TZOFFSETFROM:-0600
TZOFFSETTO:-0500
RDATE:20160313T020000
RDATE:20170312T020000
END:DAYLIGHT
END:VTIMEZONE
BEGIN:VEVENT
UID:830885d3-28c9-4bef-acf8-959182f7cad9
DTSTAMP:20260423T072747Z
DESCRIPTION:On Saturday\, February 20\, 2016 join Pagnozzi Charities for ou
 r 3rd Annual Princess for a Day event. Bring your little princess dressed 
 in her favorite princess attire. She will be able to get her nails painted
 \, make-up applied\, make a princess craft and have her picture taken with
  her favorite fairytale princesses.  \n\nThere will be a morning and an af
 ternoon session to allow for more little princesses to attend this year. 
 \nThe morning session will be from 10:00am-11:30am.  \nThe afternoon sessi
 on will be from 1:30pm-3:00pm.  \nTickets are $30 each and must be purchas
 ed in advance.  Last year we sold out 2 weeks prior to the event\, so regi
 ster today!\n\nWe are also very excited to announce that for $50/ticket\, 
 your little princess can attend an exclusive tea party with all of our fai
 rytale princesses in addition to the normal event activities.  There will 
 be 2 exclusive tea parties held and each are limited to 30 attendees.  (Ex
 clusive Tea Parties are both Sold Out!!  still plenty of room in both regu
 lar sessions!)\nThe morning tea party will be held at 9:30am\, prior to th
 e morning session.  - Sold Out\nThe afternoon tea party will be held at 1:
 00pm\, prior to the afternoon session.  \nRemember this is a limited oppor
 tunity so register quickly. \nWe have also added a few new princesses this
  year!\n\nMoney raised at this event will go to the Pagnozzi Youth Sports 
 Assistance Fund in order to provide assistance for dance and gymnastics.  
 Pagnozzi Charities provides sports assistance to underprivileged children 
 K-8th Grade in Northwest Arkansas that assist with sports registration fee
 s\, equipment\, etc. \n\nFor more information about sponsorships or volunt
 eer opportunities contact Kelley Atchley at kelley@pagnozzicharities.org o
 r 479-443-2550.\n\nIMPORTANT INFORMATION:  PLEASE READ BEFORE REGISTERING!
 !!\nPlease note that when registering\, you will need to select morning or
  afternoon session.  Also\, additional princesses can be added below the m
 ain registration this year.  Please be sure that your total includes all o
 f your attending princesses and any additional T-shirt purchases before ma
 king payment!  (This is not a drop-off event.) One adult per princess are 
 free to attend.  Any additional adults must purchase an additional family 
 member ticket.  (This is due to the fact that some princesses had 3-4 adul
 ts attending with them last year resulting in overcrowding of the event sp
 ace and longer photo lines.)  \nYou do not have to have a PayPal account t
 o pay with PayPal.
DTSTART;TZID=America/Chicago:20160220T100000
DTEND;TZID=America/Chicago:20160220T160000
LOCATION:Mermaids\, Banquet/Event Rooms | 2217 College Ave. | Fayetteville\
 , AR 72703
SUMMARY:Princess for a day
END:VEVENT
END:VCALENDAR
