BEGIN:VCALENDAR
VERSION:2.0
PRODID:-//pagnozziparker.org//NONSGML kigkonsult.se iCalcreator 2.30.10//
CALSCALE:GREGORIAN
METHOD:PUBLISH
UID:3d376d97-28fd-40d7-8672-5f75f75e974b
X-WR-CALDESC:You're Invited to shop online for fully customizable jewelry f
 rom jBloom Design Jewelry benefiting Pagnozzi Charities September 19-23.  
 Pagnozzi Charities will receive 25% of proceeds from purchases using our p
 arty link between September 19-23.  \nNeed help placing your order....Let 
 jBloom designer\, Terri Dodd assist you!  You can contact Terri at TERRIDO
 DD@myjbloom.com.
X-WR-RELCALID:f0c450b40c4afe8328cf7fee8417a18c
X-WR-TIMEZONE:America/Chicago
BEGIN:VTIMEZONE
TZID:America/Chicago
BEGIN:STANDARD
TZNAME:CST
DTSTART:20151101T020000
TZOFFSETFROM:-0500
TZOFFSETTO:-0600
RDATE:20161106T020000
RDATE:20171105T020000
END:STANDARD
BEGIN:DAYLIGHT
TZNAME:CDT
DTSTART:20160313T020000
TZOFFSETFROM:-0600
TZOFFSETTO:-0500
RDATE:20170312T020000
RDATE:20180311T020000
END:DAYLIGHT
END:VTIMEZONE
BEGIN:VEVENT
UID:3e06437f-59f7-478d-83ec-909367954fe7
DTSTAMP:20260422T200315Z
DESCRIPTION:You're Invited to shop online for fully customizable jewelry fr
 om jBloom Design Jewelry benefiting Pagnozzi Charities September 19-23.  P
 agnozzi Charities will receive 25% of proceeds from purchases using our pa
 rty link between September 19-23.  \nNeed help placing your order....Let j
 Bloom designer\, Terri Dodd assist you!  You can contact Terri at TERRIDOD
 D@myjbloom.com.
DTSTART;TZID=America/Chicago:20160919T000000
DTEND;TZID=America/Chicago:20160923T235900
LOCATION:https://www.myjbloom.com/TERRIDODD/shop/eventhome.aspx?eventId=E97
 78&from=DIRECTLINK
SUMMARY:jBloom Online Party Benefiting Pagnozzi Charities
END:VEVENT
END:VCALENDAR
