BEGIN:VCALENDAR
VERSION:2.0
PRODID:-//pagnozziparker.org//NONSGML kigkonsult.se iCalcreator 2.30.10//
CALSCALE:GREGORIAN
METHOD:PUBLISH
UID:7c47fda0-8037-4bee-9809-5ebc600405cd
X-WR-CALDESC:Join us for the 25th Annual Tom Pagnozzi Charity Golf Tourname
 nt on Friday\, October 21st at the Springdale Country Club.  Morning & Aft
 ernoon flights are available. Lunch will be served between flights and the
 re will be a golfer's happy hour and awards ceremony following the tournam
 ent.\n  \n$900 per team.  \nSponsorships are available.
X-WR-RELCALID:b43a832cdbb445b9799559b2e963b879
X-WR-TIMEZONE:America/Chicago
BEGIN:VTIMEZONE
TZID:America/Chicago
BEGIN:STANDARD
TZNAME:CST
DTSTART:20151101T020000
TZOFFSETFROM:-0500
TZOFFSETTO:-0600
RDATE:20161106T020000
RDATE:20171105T020000
END:STANDARD
BEGIN:DAYLIGHT
TZNAME:CDT
DTSTART:20160313T020000
TZOFFSETFROM:-0600
TZOFFSETTO:-0500
RDATE:20170312T020000
RDATE:20180311T020000
END:DAYLIGHT
END:VTIMEZONE
BEGIN:VEVENT
UID:4eea102a-e04c-4c30-a2ec-f924f4ab3247
DTSTAMP:20260422T182030Z
DESCRIPTION:Join us for the 25th Annual Tom Pagnozzi Charity Golf Tournamen
 t on Friday\, October 21st at the Springdale Country Club.  Morning & Afte
 rnoon flights are available. Lunch will be served between flights and ther
 e will be a golfer's happy hour and awards ceremony following the tourname
 nt.\n  \n$900 per team.  \nSponsorships are available.
DTSTART;TZID=America/Chicago:20161021T073000
DTEND;TZID=America/Chicago:20161021T183000
LOCATION:Springdale Country Club
SUMMARY:25th Annual Tom Pagnozzi Charity Golf Tournament
END:VEVENT
END:VCALENDAR
