BEGIN:VCALENDAR
VERSION:2.0
PRODID:-//pagnozziparker.org//NONSGML kigkonsult.se iCalcreator 2.30.10//
CALSCALE:GREGORIAN
METHOD:PUBLISH
UID:a8d82a8f-7afa-4109-9f50-b9accd29cde0
X-WR-CALDESC:Join us the day after the golf tournament for the Ultimate Tai
 lgate & Auction.  Bid on amazing live and silent auction items while enjoy
 ing great food and drinks.  \nPlus live music by Barrett Baber!!  \n\n-Res
 erved tables (seats 10) $500\n-General Admission $50 per person\n\n-Sponso
 rship opportunities available.\n\n\n\n
X-WR-RELCALID:342f2cb0c11c2e19fc92d05fed6be497
X-WR-TIMEZONE:America/Chicago
BEGIN:VTIMEZONE
TZID:America/Chicago
BEGIN:STANDARD
TZNAME:CST
DTSTART:20151101T020000
TZOFFSETFROM:-0500
TZOFFSETTO:-0600
RDATE:20161106T020000
RDATE:20171105T020000
END:STANDARD
BEGIN:DAYLIGHT
TZNAME:CDT
DTSTART:20160313T020000
TZOFFSETFROM:-0600
TZOFFSETTO:-0500
RDATE:20170312T020000
RDATE:20180311T020000
END:DAYLIGHT
END:VTIMEZONE
BEGIN:VEVENT
UID:c97142b1-ca7d-4e0b-addd-93957fbde401
DTSTAMP:20260422T183154Z
DESCRIPTION:Join us the day after the golf tournament for the Ultimate Tail
 gate & Auction.  Bid on amazing live and silent auction items while enjoyi
 ng great food and drinks.  \nPlus live music by Barrett Baber!!  \n\n-Rese
 rved tables (seats 10) $500\n-General Admission $50 per person\n\n-Sponsor
 ship opportunities available.\n\n\n\n
DTSTART;TZID=America/Chicago:20161022T190000
DTEND;TZID=America/Chicago:20161022T230000
LOCATION:Fayetteville Town Center
SUMMARY:Ultimate Tailgate & Auction
END:VEVENT
END:VCALENDAR
