BEGIN:VCALENDAR
VERSION:2.0
PRODID:-//pagnozziparker.org//NONSGML kigkonsult.se iCalcreator 2.30.10//
CALSCALE:GREGORIAN
METHOD:PUBLISH
UID:38dcdc66-de55-48d3-8011-a4f592cdc5cf
X-WR-CALDESC:Join us at Slim Chickens on Thursday\, November 10th 5-9pm. Be
  sure to say you are there for Pagnozzi Charities when ordering!! In fact\
 , even better....print this page and take it with you.  15% of proceeds wi
 ll benefit Pagnozzi Charities.
X-WR-RELCALID:39e4a80fbaa2703e7b745f8b32696881
X-WR-TIMEZONE:America/Chicago
BEGIN:VTIMEZONE
TZID:America/Chicago
BEGIN:STANDARD
TZNAME:CST
DTSTART:20161106T020000
TZOFFSETFROM:-0500
TZOFFSETTO:-0600
RDATE:20171105T020000
END:STANDARD
BEGIN:DAYLIGHT
TZNAME:CDT
DTSTART:20160313T020000
TZOFFSETFROM:-0600
TZOFFSETTO:-0500
RDATE:20170312T020000
RDATE:20180311T020000
END:DAYLIGHT
END:VTIMEZONE
BEGIN:VEVENT
UID:4a359c63-afed-438b-ae08-442cd4260768
DTSTAMP:20260424T101139Z
DESCRIPTION:Join us at Slim Chickens on Thursday\, November 10th 5-9pm. Be 
 sure to say you are there for Pagnozzi Charities when ordering!! In fact\,
  even better....print this page and take it with you.  15% of proceeds wil
 l benefit Pagnozzi Charities.
DTSTART;TZID=America/Chicago:20161110T170000
DTEND;TZID=America/Chicago:20161110T210000
LOCATION:Slim Chickens\, 2120 N. College Ave.\, Fayetteville\, AR  72703
SUMMARY:Slim Chickens Spirit Night
END:VEVENT
END:VCALENDAR
