BEGIN:VCALENDAR
VERSION:2.0
PRODID:-//pagnozziparker.org//NONSGML kigkonsult.se iCalcreator 2.30.10//
CALSCALE:GREGORIAN
METHOD:PUBLISH
UID:9398259d-b1ce-49bc-8d01-c30020bad2db
X-WR-CALDESC:12th Annual Kid's Tennis Day hosted by DRJII\, Pagnozzi Charit
 ies and Camp War Eagle/The Jones Center \n  \nWHAT: 12th Annual DRJII Kid'
 s Tennis Day conducted by the Men's Razorback Tennis Program \n \n\nWHEN: 
 Sunday\, November 13th from 1:00pm - 3:00pm\n\nWHERE: Dill Indoor Tennis C
 omplex (Nettleship and Razorback Road)\n\nWHO:  Kids ages 7- 13 (camp limi
 ted to 36 kids)\nEach child will receive a t-shirt and tennis racquet \nto
  take home with them!\n\nEquipment and a snack will be provided.  Tennis s
 hoes are not permitted on the courts so please bring a pair of socks for y
 our child to wear. \n  \n Click the button above to register your child pr
 ior to \nNovember 9th.\n \nThis camp is FREE but Pre-Registration is requi
 red. \n\nWe look forward to seeing you there!    \nContact us at 479-443-2
 550 if you have questions. \n   \n
X-WR-RELCALID:b19f3c7870e7fcdb2c6750ef6e728241
X-WR-TIMEZONE:America/Chicago
BEGIN:VTIMEZONE
TZID:America/Chicago
BEGIN:STANDARD
TZNAME:CST
DTSTART:20161106T020000
TZOFFSETFROM:-0500
TZOFFSETTO:-0600
RDATE:20171105T020000
END:STANDARD
BEGIN:DAYLIGHT
TZNAME:CDT
DTSTART:20160313T020000
TZOFFSETFROM:-0600
TZOFFSETTO:-0500
RDATE:20170312T020000
RDATE:20180311T020000
END:DAYLIGHT
END:VTIMEZONE
BEGIN:VEVENT
UID:3179086c-5811-4d15-954e-6ce5f5603158
DTSTAMP:20260422T170328Z
DESCRIPTION:12th Annual Kid's Tennis Day hosted by DRJII\, Pagnozzi Chariti
 es and Camp War Eagle/The Jones Center \n  \nWHAT: 12th Annual DRJII Kid's
  Tennis Day conducted by the Men's Razorback Tennis Program \n \n\nWHEN: S
 unday\, November 13th from 1:00pm - 3:00pm\n\nWHERE: Dill Indoor Tennis Co
 mplex (Nettleship and Razorback Road)\n\nWHO:  Kids ages 7- 13 (camp limit
 ed to 36 kids)\nEach child will receive a t-shirt and tennis racquet \nto 
 take home with them!\n\nEquipment and a snack will be provided.  Tennis sh
 oes are not permitted on the courts so please bring a pair of socks for yo
 ur child to wear. \n  \n Click the button above to register your child pri
 or to \nNovember 9th.\n \nThis camp is FREE but Pre-Registration is requir
 ed. \n\nWe look forward to seeing you there!    \nContact us at 479-443-25
 50 if you have questions. \n   \n
DTSTART;TZID=America/Chicago:20161113T130000
DTEND;TZID=America/Chicago:20161113T150000
LOCATION:Dill Indoor Tennis Facility (UofA Campus)
SUMMARY:KID'S TENNIS DAY
END:VEVENT
END:VCALENDAR
