BEGIN:VCALENDAR
VERSION:2.0
PRODID:-//pagnozziparker.org//NONSGML kigkonsult.se iCalcreator 2.30.10//
CALSCALE:GREGORIAN
METHOD:PUBLISH
UID:ae405f26-d215-4679-a1c7-79408a93ee76
X-WR-CALDESC:On Saturday\, February 18\, 2017 join Pagnozzi Charities for o
 ur 4th Annual Princess for a Day event. Bring your little princess dressed
  in her favorite princess attire. She will be able to get her nails painte
 d\, make-up applied\, and make a princess craft.  We will have 13 fairytal
 e princesses at the event this year for your child to visit with\, get an 
 autograph from  and have their photo taken with.  And we might be adding 1
  more....\n\nThere will be both a morning and afternoon session\, plus Exc
 lusive Tea Parties prior to each session.  \n-Morning Exclusive Tea Party 
 starts at 9:30am and includes a ticket to the regular morning session. (Ti
 ckets -$50each)\n-Regular Morning Session starts at 10:00am (Tickets -$30e
 ach)\n-Afternoon Exclusive Tea Party starts at 1:00pm and includes a ticke
 t to the regular afternoon session. (Tickets- $50each)\n-Regular Afternoon
  Session starts at 1:30pm. (Tickets- $30each)\n\nEach ticket comes with on
 e adult spectator ticket for a parent.  This is not a drop-off event!  If 
 you plan to have additional adults attend with your child you will need to
  purchase an additional adult spectator ticket.  \n\nMoney raised at this 
 event will go to the Pagnozzi Youth Sports Assistance Fund in order to pro
 vide assistance for dance and gymnastics.  Pagnozzi Charities provides spo
 rts assistance to underprivileged children K-8th Grade in Northwest Arkans
 as that assist with sports registration fees\, equipment\, etc.
X-WR-RELCALID:3e39ecd1b5629320940f34f9d415784a
X-WR-TIMEZONE:America/Chicago
BEGIN:VTIMEZONE
TZID:America/Chicago
BEGIN:STANDARD
TZNAME:CST
DTSTART:20161106T020000
TZOFFSETFROM:-0500
TZOFFSETTO:-0600
RDATE:20171105T020000
END:STANDARD
BEGIN:DAYLIGHT
TZNAME:CDT
DTSTART:20160313T020000
TZOFFSETFROM:-0600
TZOFFSETTO:-0500
RDATE:20170312T020000
RDATE:20180311T020000
END:DAYLIGHT
END:VTIMEZONE
BEGIN:VEVENT
UID:0e18c380-8fa3-46db-bb39-3c88f1b5fc0c
DTSTAMP:20260422T120820Z
DESCRIPTION:On Saturday\, February 18\, 2017 join Pagnozzi Charities for ou
 r 4th Annual Princess for a Day event. Bring your little princess dressed 
 in her favorite princess attire. She will be able to get her nails painted
 \, make-up applied\, and make a princess craft.  We will have 13 fairytale
  princesses at the event this year for your child to visit with\, get an a
 utograph from  and have their photo taken with.  And we might be adding 1 
 more....\n\nThere will be both a morning and afternoon session\, plus Excl
 usive Tea Parties prior to each session.  \n-Morning Exclusive Tea Party s
 tarts at 9:30am and includes a ticket to the regular morning session. (Tic
 kets -$50each)\n-Regular Morning Session starts at 10:00am (Tickets -$30ea
 ch)\n-Afternoon Exclusive Tea Party starts at 1:00pm and includes a ticket
  to the regular afternoon session. (Tickets- $50each)\n-Regular Afternoon 
 Session starts at 1:30pm. (Tickets- $30each)\n\nEach ticket comes with one
  adult spectator ticket for a parent.  This is not a drop-off event!  If y
 ou plan to have additional adults attend with your child you will need to 
 purchase an additional adult spectator ticket.  \n\nMoney raised at this e
 vent will go to the Pagnozzi Youth Sports Assistance Fund in order to prov
 ide assistance for dance and gymnastics.  Pagnozzi Charities provides spor
 ts assistance to underprivileged children K-8th Grade in Northwest Arkansa
 s that assist with sports registration fees\, equipment\, etc.
DTSTART;TZID=America/Chicago:20170218T093000
DTEND;TZID=America/Chicago:20170218T150000
LOCATION:Mermaids Restaurant\, Fayetteville\, AR
SUMMARY:4th Annual Princess for a Day Event
END:VEVENT
END:VCALENDAR
