BEGIN:VCALENDAR
VERSION:2.0
PRODID:-//pagnozziparker.org//NONSGML kigkonsult.se iCalcreator 2.30.10//
CALSCALE:GREGORIAN
METHOD:PUBLISH
UID:05812074-6793-4bc4-96cf-649138d7589f
X-WR-CALDESC:Game is at 3:00pm.  10% of all appetizers ordered on Razorback
  Baseball Home Game Days benefits Pagnozzi Charities.  Only applies at the
  Foghorn's location across the street from Baum Stadium.
X-WR-RELCALID:93987975abc4e011b97bbeb06fd084ed
X-WR-TIMEZONE:America/Chicago
BEGIN:VTIMEZONE
TZID:America/Chicago
BEGIN:STANDARD
TZNAME:CST
DTSTART:20161106T020000
TZOFFSETFROM:-0500
TZOFFSETTO:-0600
RDATE:20171105T020000
END:STANDARD
BEGIN:DAYLIGHT
TZNAME:CDT
DTSTART:20170312T020000
TZOFFSETFROM:-0600
TZOFFSETTO:-0500
RDATE:20180311T020000
END:DAYLIGHT
END:VTIMEZONE
BEGIN:VEVENT
UID:e976c49c-6a7b-4a2c-93e4-8cab0e7bbfa7
DTSTAMP:20260422T085226Z
DESCRIPTION:Game is at 3:00pm.  10% of all appetizers ordered on Razorback 
 Baseball Home Game Days benefits Pagnozzi Charities.  Only applies at the 
 Foghorn's location across the street from Baum Stadium.
DTSTART;TZID=America/Chicago:20170315T000000
DTEND;TZID=America/Chicago:20170315T235900
LOCATION:Foghorn's Wings\, Burgers & More\, 1545 W 15th St\, Fayetteville\,
  AR 72701
SUMMARY:Eat at Foghorn's - Razorback Baseball Home Game vs. Alcorn State
END:VEVENT
END:VCALENDAR
