BEGIN:VCALENDAR
VERSION:2.0
PRODID:-//pagnozziparker.org//NONSGML kigkonsult.se iCalcreator 2.30.10//
CALSCALE:GREGORIAN
METHOD:PUBLISH
UID:80552509-663d-4431-b02d-67680bd8095d
X-WR-CALDESC:Game is at 1:00pm.  10% of all appetizers ordered on Razorback
  Baseball Home Game Days benefits Pagnozzi Charities.  Only applies at the
  Foghorn's location across the street from Baum Stadium.
X-WR-RELCALID:0ffc85b9404798e67fb389f02ac250d9
X-WR-TIMEZONE:America/Chicago
BEGIN:VTIMEZONE
TZID:America/Chicago
BEGIN:STANDARD
TZNAME:CST
DTSTART:20161106T020000
TZOFFSETFROM:-0500
TZOFFSETTO:-0600
RDATE:20171105T020000
END:STANDARD
BEGIN:DAYLIGHT
TZNAME:CDT
DTSTART:20170312T020000
TZOFFSETFROM:-0600
TZOFFSETTO:-0500
RDATE:20180311T020000
END:DAYLIGHT
END:VTIMEZONE
BEGIN:VEVENT
UID:679fbe87-2cbc-4dd8-8eed-bed6efd22bea
DTSTAMP:20260422T103713Z
DESCRIPTION:Game is at 1:00pm.  10% of all appetizers ordered on Razorback 
 Baseball Home Game Days benefits Pagnozzi Charities.  Only applies at the 
 Foghorn's location across the street from Baum Stadium.
DTSTART;TZID=America/Chicago:20170319T000000
DTEND;TZID=America/Chicago:20170319T235900
LOCATION:Foghorn's Wings\, Burgers & More\, 1545 W 15th St\, Fayetteville\,
  AR 72701
SUMMARY:Eat at Foghorn's - Razorback Baseball Home Game Day vs. Mississippi
  State
END:VEVENT
END:VCALENDAR
