BEGIN:VCALENDAR
VERSION:2.0
PRODID:-//pagnozziparker.org//NONSGML kigkonsult.se iCalcreator 2.30.10//
CALSCALE:GREGORIAN
METHOD:PUBLISH
UID:9222ef47-e6cd-4e3d-93e2-50bc33d18109
X-WR-CALDESC:Game is at 6:00pm.  10% of all appetizers ordered on Razorback
  Baseball Home Game Days benefits Pagnozzi Charities.  Only applies at the
  Foghorn's location across the street from Baum Stadium.
X-WR-RELCALID:91c834d73b4c65e5e8b66b1a26c2f2cc
X-WR-TIMEZONE:America/Chicago
BEGIN:VTIMEZONE
TZID:America/Chicago
BEGIN:STANDARD
TZNAME:CST
DTSTART:20161106T020000
TZOFFSETFROM:-0500
TZOFFSETTO:-0600
RDATE:20171105T020000
END:STANDARD
BEGIN:DAYLIGHT
TZNAME:CDT
DTSTART:20170312T020000
TZOFFSETFROM:-0600
TZOFFSETTO:-0500
RDATE:20180311T020000
END:DAYLIGHT
END:VTIMEZONE
BEGIN:VEVENT
UID:950fb3c3-a837-4226-94ff-6b9fcea069e2
DTSTAMP:20260422T104440Z
DESCRIPTION:Game is at 6:00pm.  10% of all appetizers ordered on Razorback 
 Baseball Home Game Days benefits Pagnozzi Charities.  Only applies at the 
 Foghorn's location across the street from Baum Stadium.
DTSTART;TZID=America/Chicago:20170322T000000
DTEND;TZID=America/Chicago:20170322T235900
LOCATION:Foghorn's Wings\, Burgers & More\, 1545 W 15th St\, Fayetteville\,
  AR 72701
SUMMARY:Eat at Foghorn's - Razorback Baseball Home Game Day vs. University 
 of New Orleans
END:VEVENT
END:VCALENDAR
