BEGIN:VCALENDAR
VERSION:2.0
PRODID:-//pagnozziparker.org//NONSGML kigkonsult.se iCalcreator 2.30.10//
CALSCALE:GREGORIAN
METHOD:PUBLISH
UID:37acbaab-3169-4ce4-b0d0-6a595c878ef5
X-WR-CALDESC:Game is at 6:30pm.  10% of all appetizers ordered on Razorback
  Baseball Home Game Days benefits Pagnozzi Charities.  Only applies at the
  Foghorn's location across the street from Baum Stadium.
X-WR-RELCALID:9f122885510193deaefaf58ea8d3172a
X-WR-TIMEZONE:America/Chicago
BEGIN:VTIMEZONE
TZID:America/Chicago
BEGIN:STANDARD
TZNAME:CST
DTSTART:20161106T020000
TZOFFSETFROM:-0500
TZOFFSETTO:-0600
RDATE:20171105T020000
END:STANDARD
BEGIN:DAYLIGHT
TZNAME:CDT
DTSTART:20170312T020000
TZOFFSETFROM:-0600
TZOFFSETTO:-0500
RDATE:20180311T020000
END:DAYLIGHT
END:VTIMEZONE
BEGIN:VEVENT
UID:0b946ad5-edd7-4b33-baa8-822e797fd91b
DTSTAMP:20260424T100621Z
DESCRIPTION:Game is at 6:30pm.  10% of all appetizers ordered on Razorback 
 Baseball Home Game Days benefits Pagnozzi Charities.  Only applies at the 
 Foghorn's location across the street from Baum Stadium.
DTSTART;TZID=America/Chicago:20170329T000000
DTEND;TZID=America/Chicago:20170329T235900
LOCATION:Foghorn's Wings\, Burgers & More\, 1545 W 15th St\, Fayetteville\,
  AR 72701
SUMMARY:Eat at Foghorn's - Razorback Baseball Home Game Day vs. Grambling S
 tate
END:VEVENT
END:VCALENDAR
