BEGIN:VCALENDAR
VERSION:2.0
PRODID:-//pagnozziparker.org//NONSGML kigkonsult.se iCalcreator 2.30.10//
CALSCALE:GREGORIAN
METHOD:PUBLISH
UID:57143ba7-c2e7-40ec-8514-b7161f61da5e
X-WR-CALDESC:Razorback Baseball vs. Texas A&M\nFriday\, May 11th @ 6pm\nSat
 urday\, May 12th @ 1pm\nSunday\, May 13th @ 12pm\n\nStop by Foghorn's befo
 re or after the games and be sure to order some appetizers.  10% of all ap
 petizers ordered on Razorback Baseball home game days benefits Pagnozzi Ch
 arities.
X-WR-RELCALID:90c728de4af19e52dbfb47dd802db7cd
X-WR-TIMEZONE:America/Chicago
BEGIN:VTIMEZONE
TZID:America/Chicago
BEGIN:STANDARD
TZNAME:CST
DTSTART:20171105T020000
TZOFFSETFROM:-0500
TZOFFSETTO:-0600
RDATE:20181104T020000
RDATE:20191103T020000
END:STANDARD
BEGIN:DAYLIGHT
TZNAME:CDT
DTSTART:20180311T020000
TZOFFSETFROM:-0600
TZOFFSETTO:-0500
RDATE:20190310T020000
END:DAYLIGHT
END:VTIMEZONE
BEGIN:VEVENT
UID:0d8628ac-61ee-4a2f-8332-275f0494c6a4
DTSTAMP:20260423T104642Z
DESCRIPTION:Razorback Baseball vs. Texas A&M\nFriday\, May 11th @ 6pm\nSatu
 rday\, May 12th @ 1pm\nSunday\, May 13th @ 12pm\n\nStop by Foghorn's befor
 e or after the games and be sure to order some appetizers.  10% of all app
 etizers ordered on Razorback Baseball home game days benefits Pagnozzi Cha
 rities.
DTSTART;TZID=America/Chicago:20180511T000000
DTEND;TZID=America/Chicago:20180511T225900
LOCATION:Foghorn's Wings Burgers & More\, 1545 W 15th St\, Fayetteville\, A
 R 72701
SUMMARY:Foghorn's Appetizer Promotion
END:VEVENT
END:VCALENDAR
